BEGIN:VCALENDAR
VERSION:2.0
PRODID:-//echidnab0939bac.brizy.site//NONSGML kigkonsult.se iCalcreator 2.3
 9.1//
CALSCALE:GREGORIAN
METHOD:PUBLISH
UID:2074fdba-66fa-4fa9-a14b-6cf4bde5b5cd
X-WR-CALNAME:echidnab0939bac.brizy.site
X-WR-CALDESC:echidnab0939bac.brizy.site
X-WR-TIMEZONE:America/Los_Angeles
X-LIC-LOCATION:America/Los_Angeles
BEGIN:VEVENT
UID:0a02a1c5-787d-487a-8c47-835f530e069f
DTSTAMP:20260424T055827Z
CLASS:PUBLIC
DTSTART;TZID=America/Los_Angeles:20260423T180000
DTEND;TZID=America/Los_Angeles:20260423T200000
LOCATION:MK047 Development
SUMMARY:Youth Group
TRANSP:OPAQUE
BEGIN:VALARM
ACTION:DISPLAY
DESCRIPTION:Youth Group
TRIGGER:-PT15M
END:VALARM
END:VEVENT
END:VCALENDAR
