BEGIN:VCALENDAR
VERSION:2.0
PRODID:-//echidnab0939bac.brizy.site//NONSGML kigkonsult.se iCalcreator 2.3
 9.1//
CALSCALE:GREGORIAN
METHOD:PUBLISH
UID:294446c0-2de1-489a-a126-2a060d8f9492
X-WR-CALNAME:echidnab0939bac.brizy.site
X-WR-CALDESC:echidnab0939bac.brizy.site
X-WR-TIMEZONE:America/Los_Angeles
X-LIC-LOCATION:America/Los_Angeles
BEGIN:VEVENT
UID:7fba8de8-ed95-4ae2-8d38-73772f55ccf9
DTSTAMP:20260424T065316Z
CLASS:PUBLIC
DTSTART;TZID=America/Los_Angeles:20260430T180000
DTEND;TZID=America/Los_Angeles:20260430T200000
LOCATION:MK047 Development
SUMMARY:Youth Group
TRANSP:OPAQUE
BEGIN:VALARM
ACTION:DISPLAY
DESCRIPTION:Youth Group
TRIGGER:-PT15M
END:VALARM
END:VEVENT
END:VCALENDAR
